BEGIN:VCALENDAR
VERSION:2.0
PRODID:-//Daxko LLC//Non-Profit Mobile//EN
CALSCALE:GREGORIAN
METHOD:PUBLISH
BEGIN:VEVENT
SUMMARY:Aqua Smoother Moves
UID:11184-1905975-series
SEQUENCE:0
STATUS:CONFIRMED
TRANSP:OPAQUE
DTSTART;TZID=America/New_York:20260423T101500
DTEND;TZID=America/New_York:20260423T110000
DTSTAMP:20260423T083003Z
CATEGORIES:Aquatic Fitness
LOCATION:Splash Pool
DESCRIPTION:Part of Group Aquatic Fitness, Aqua Smoother Moves is a&nbsp; 45-minute class.&nbsp; Exercise at your own pace. The No impact exercises work the muscles, cardio system and ease joint pain.&nbsp; Great class for participants with Arthritis/Fibromyalgia.
Group Aquatic Fitness classes Free to Members!
No Registration required.
Non-Member Guests welcome with Daily Admission purchase.
RRULE:FREQ=WEEKLY;BYDAY=TH;UNTIL=20261231
END:VEVENT
END:VCALENDAR