BEGIN:VCALENDAR
VERSION:2.0
PRODID:-//Daxko LLC//Non-Profit Mobile//EN
CALSCALE:GREGORIAN
METHOD:PUBLISH
BEGIN:VEVENT
SUMMARY:Speed,Agility &Strength $
UID:12329-1985321-series
SEQUENCE:0
STATUS:CONFIRMED
TRANSP:OPAQUE
DTSTART;TZID=America/New_York:20260423T170000
DTEND;TZID=America/New_York:20260423T174500
DTSTAMP:20260423T082742Z
CATEGORIES:Kids Fitness
LOCATION:Studio 4
DESCRIPTION:Age: 7-12
This special program is crafted to help participants improve acceleration, control,foot speed and balance through engaging and dynamic training sessions each week. Wether your child is an aspiring athlete or simply wants to learn how to move better, this opportunity promises to bosst their confidence and physical abilities in a supportive and fun enviorment.&nbsp;
RRULE:FREQ=WEEKLY;BYDAY=TU,TH;UNTIL=20260423
END:VEVENT
END:VCALENDAR