BEGIN:VCALENDAR
VERSION:2.0
PRODID:-//Daxko LLC//Non-Profit Mobile//EN
CALSCALE:GREGORIAN
METHOD:PUBLISH
BEGIN:VEVENT
SUMMARY:Grit & Grace$
UID:12330-1985329-series
SEQUENCE:0
STATUS:CONFIRMED
TRANSP:OPAQUE
DTSTART;TZID=America/New_York:20260423T170000
DTEND;TZID=America/New_York:20260423T174500
DTSTAMP:20260423T082951Z
CATEGORIES:Programs Youth
LOCATION:Zone 2
DESCRIPTION:A perfect fitness class for girls only! You will start out easy and work your way to high levels of physical fitness by enjoying strength &amp; bodyweight trainings sessions. 
RRULE:FREQ=WEEKLY;BYDAY=TH;UNTIL=20260423
END:VEVENT
END:VCALENDAR