BEGIN:VCALENDAR
VERSION:2.0
PRODID:-//Daxko LLC//Non-Profit Mobile//EN
CALSCALE:GREGORIAN
METHOD:PUBLISH
BEGIN:VEVENT
SUMMARY:Les Mills Grit Strength
UID:5908-1983545-series
SEQUENCE:0
STATUS:CONFIRMED
TRANSP:OPAQUE
DTSTART;TZID=America/New_York:20260423T053000
DTEND;TZID=America/New_York:20260423T060000
DTSTAMP:20260423T082742Z
CATEGORIES:Cardio & Strength
LOCATION:Studio 3
DESCRIPTION:Part of Group Fitness Les Mills Grit Strength is next generation, high intensity (HIIT) training using barbells, plates, and bodyweight exercises to make you strong and fit.
Group Fitness classes Free to Members!
No Registration required.
Non-Member Guests welcome with Daily Admission purchase.
RRULE:FREQ=WEEKLY;BYDAY=TH;UNTIL=20261224
END:VEVENT
END:VCALENDAR