BEGIN:VCALENDAR
VERSION:2.0
PRODID:-//Daxko LLC//Non-Profit Mobile//EN
CALSCALE:GREGORIAN
METHOD:PUBLISH
BEGIN:VEVENT
SUMMARY:Ninja Kids $
UID:5972-1855125-series
SEQUENCE:0
STATUS:CONFIRMED
TRANSP:OPAQUE
DTSTART;TZID=America/New_York:20260423T180000
DTEND;TZID=America/New_York:20260423T190000
DTSTAMP:20260423T083004Z
CATEGORIES:Youth obstacle course
LOCATION:Lititz recROC
DESCRIPTION:Located at Lititz recROC, Ninja kids is the perfect class to get your children ages 6-13 acclimated to obstacle courses through a fun mix of ground and aerial obstacles.
This class operates on a drop in format weekly.&nbsp;
&nbsp;
Sign up for ninja kids
RRULE:FREQ=WEEKLY;BYDAY=MO,TH;UNTIL=20261231
END:VEVENT
END:VCALENDAR