BEGIN:VCALENDAR
VERSION:2.0
PRODID:-//Daxko LLC//Non-Profit Mobile//EN
CALSCALE:GREGORIAN
METHOD:PUBLISH
BEGIN:VEVENT
SUMMARY:RPM
UID:6075-1983941-series
SEQUENCE:0
STATUS:CONFIRMED
TRANSP:OPAQUE
DTSTART;TZID=America/New_York:20260423T180000
DTEND;TZID=America/New_York:20260423T184500
DTSTAMP:20260423T083129Z
CATEGORIES:Cycling
LOCATION:Zone 1
DESCRIPTION:Part of Group Fitness, Les Mills RPM is a cycling class that is cardio packed. This workout uses simulated hill climbs, sprints, and flat riding to improve aerobic fitness levels and muscle endurance.&nbsp; Find your rhythm in the music, and hit an endorphin high.&nbsp; Control your own resistance levels and speed for a customized experience.
Group Fitness classes Free to Members!
No Registration required.
Non-Member Guests welcome with Daily Admission purchase.
RRULE:FREQ=WEEKLY;BYDAY=TH;UNTIL=20261224
END:VEVENT
END:VCALENDAR