BEGIN:VCALENDAR
VERSION:2.0
PRODID:-//Daxko LLC//Non-Profit Mobile//EN
CALSCALE:GREGORIAN
METHOD:PUBLISH
BEGIN:VEVENT
SUMMARY:Aqua Five Star Practice
UID:9591-1629019-single
SEQUENCE:0
STATUS:CONFIRMED
TRANSP:OPAQUE
DTSTART;TZID=America/New_York:20260423T163000
DTEND;TZID=America/New_York:20260423T193000
DTSTAMP:20260423T082509Z
CATEGORIES:Aquatic Activity
LOCATION:Main Pool
DESCRIPTION:Five Star Swim Team Practice in main pool using 6 lanes.
&nbsp;
END:VEVENT
END:VCALENDAR