BEGIN:VCALENDAR
VERSION:2.0
PRODID:-//Daxko LLC//Non-Profit Mobile//EN
CALSCALE:GREGORIAN
METHOD:PUBLISH
BEGIN:VEVENT
SUMMARY:Aqua Yoga
UID:11182-1905871-single
SEQUENCE:0
STATUS:CONFIRMED
TRANSP:OPAQUE
DTSTART;TZID=America/New_York:20260423T080800
DTEND;TZID=America/New_York:20260423T090000
DTSTAMP:20260423T082605Z
CATEGORIES:Aquatic Fitness
LOCATION:Splash Pool
DESCRIPTION:Part of Group Aquatic Fitness, Aqua Yoga is a water-adapted yoga class for both beginners and experienced yogi to develop strength, improve balance and increase range of motion along with mind/body relaxation through low-impact motions.
Group Aquatic Fitness classes Free to Members!
No Registration required.
Non-Member Guests welcome with Daily Admission purchase.
&nbsp;
END:VEVENT
END:VCALENDAR