BEGIN:VCALENDAR
VERSION:2.0
PRODID:-//Daxko LLC//Non-Profit Mobile//EN
CALSCALE:GREGORIAN
METHOD:PUBLISH
BEGIN:VEVENT
SUMMARY:Aqua High Intensity
UID:11185-1906027-single
SEQUENCE:0
STATUS:CONFIRMED
TRANSP:OPAQUE
DTSTART;TZID=America/New_York:20260423T091500
DTEND;TZID=America/New_York:20260423T100000
DTSTAMP:20260423T082203Z
CATEGORIES:Aquatic Fitness
LOCATION:Main Pool
DESCRIPTION:Part of Group Aquatic Fitness, Aqua High Intensity is a challenging 45-minute session for all fitness levels.&nbsp; Enhancing strength and endurance in a supportive water environment.
Group Aquatic Fitness classes Free to Members!
No Registration required.
Non-Member Guests welcome with Daily Admission purchase.
END:VEVENT
END:VCALENDAR