BEGIN:VCALENDAR
VERSION:2.0
PRODID:-//Daxko LLC//Non-Profit Mobile//EN
CALSCALE:GREGORIAN
METHOD:PUBLISH
BEGIN:VEVENT
SUMMARY:HIIT Happens
UID:5907-1983501-single
SEQUENCE:0
STATUS:CONFIRMED
TRANSP:OPAQUE
DTSTART;TZID=America/New_York:20260423T053000
DTEND;TZID=America/New_York:20260423T061500
DTSTAMP:20260423T082419Z
CATEGORIES:Cardio
LOCATION:Studio 4
DESCRIPTION:Part of Group Fitness, HIIT Happens is a high intensity interval training class that combines cardio, strength training and core exercises for a challenging yet inclusive workout experience.&nbsp; Participants will enjoy dynamic movements and improve mobility while burning significant calories, with the added&nbsp; benefit of after burn effect.
Group Fitness classes Free to Members!
No Registration required.
Non-Member Guests welcome with Daily Admission purchase.
END:VEVENT
END:VCALENDAR