BEGIN:VCALENDAR
VERSION:2.0
PRODID:-//Daxko LLC//Non-Profit Mobile//EN
CALSCALE:GREGORIAN
METHOD:PUBLISH
BEGIN:VEVENT
SUMMARY:Les Mills CORE
UID:5909-1983589-single
SEQUENCE:0
STATUS:CONFIRMED
TRANSP:OPAQUE
DTSTART;TZID=America/New_York:20260423T060000
DTEND;TZID=America/New_York:20260423T063000
DTSTAMP:20260423T082509Z
CATEGORIES:Strength & Core
LOCATION:Studio 3
DESCRIPTION:Part of Group Fitness, Les Mills CORE is an innovative workout to transform muscles of your torso, hips, and glutes into a powerhouse to support the rest of your body. Scientifically tested to improve your stability, elevate speed, and assist with injury prevention.
Group Fitness classes Free to Members!
No Registration required.
Non-Member Guests welcome with Daily Admission purchase.
END:VEVENT
END:VCALENDAR