BEGIN:VCALENDAR
VERSION:2.0
PRODID:-//Daxko LLC//Non-Profit Mobile//EN
CALSCALE:GREGORIAN
METHOD:PUBLISH
BEGIN:VEVENT
SUMMARY:Les Mills Tone
UID:6067-1983677-single
SEQUENCE:0
STATUS:CONFIRMED
TRANSP:OPAQUE
DTSTART;TZID=America/New_York:20260423T081500
DTEND;TZID=America/New_York:20260423T090000
DTSTAMP:20260423T082604Z
CATEGORIES:Low Impact
LOCATION:Studio 4
DESCRIPTION:Part of Group Fitness, Les Mills Tone is the uttimate foundational class designed using functional movements and cutting-edge training styles.&nbsp; Tone is a 45-minute class to improve your flexibility, agility and balance through strength, cardio, and core to leave you feeling like you have taken your fitness to a whole new level.
Group Fitness classes Free to Members!
No Registration required.
Non-Member Guests welcome with Daily Admission purchase.
END:VEVENT
END:VCALENDAR