BEGIN:VCALENDAR
VERSION:2.0
PRODID:-//Daxko LLC//Non-Profit Mobile//EN
CALSCALE:GREGORIAN
METHOD:PUBLISH
BEGIN:VEVENT
SUMMARY:Spin
UID:6068-1983721-single
SEQUENCE:0
STATUS:CONFIRMED
TRANSP:OPAQUE
DTSTART;TZID=America/New_York:20260423T081500
DTEND;TZID=America/New_York:20260423T090000
DTSTAMP:20260423T082428Z
CATEGORIES:Cycling
LOCATION:Zone 1
DESCRIPTION:Part of Group Fitness, Spin is 45 minutes of interval, rolling hills, sprint, climbs and surge to motivating, inspirational music.&nbsp; This workout will burn calories and increase endurance.
Group Fitness classes Free to Members!
No Registration required.
Non-Member Guests welcome with Daily Admission purchase.
END:VEVENT
END:VCALENDAR