BEGIN:VCALENDAR
VERSION:2.0
PRODID:-//Daxko LLC//Non-Profit Mobile//EN
CALSCALE:GREGORIAN
METHOD:PUBLISH
BEGIN:VEVENT
SUMMARY:Les Mills Body Balance
UID:6070-1983765-single
SEQUENCE:0
STATUS:CONFIRMED
TRANSP:OPAQUE
DTSTART;TZID=America/New_York:20260423T090000
DTEND;TZID=America/New_York:20260423T100000
DTSTAMP:20260423T082510Z
CATEGORIES:Body & Mind
LOCATION:Studio 4
DESCRIPTION:Part of Group Fitness, Les Mills Body Balance is ideal for anyone and everyone, this class is a new generation yoga workout that will improve your mind &amp; body.&nbsp; You can expect to bend and stretch through a series of simple yoga moves, with elements of Tai Chi and Pilates.
Group Fitness classes Free to Members!
No Registration required.
Non-Member Guests welcome with Daily Admission purchase.
&nbsp;
END:VEVENT
END:VCALENDAR