BEGIN:VCALENDAR
VERSION:2.0
PRODID:-//Daxko LLC//Non-Profit Mobile//EN
CALSCALE:GREGORIAN
METHOD:PUBLISH
BEGIN:VEVENT
SUMMARY:Les Mills Body Pump
UID:6072-1983853-single
SEQUENCE:0
STATUS:CONFIRMED
TRANSP:OPAQUE
DTSTART;TZID=America/New_York:20260423T121500
DTEND;TZID=America/New_York:20260423T131500
DTSTAMP:20260423T082510Z
CATEGORIES:Strength & Core
LOCATION:Studio 3
DESCRIPTION:Part of Group Fitness, Les Mills Body Pump is a scientifically backed barbell workout using moderate weights and high reps to build strength and you fit fast. The encouragement, motivation, and great music this class has will leave you feeling energized, confident, and powerful, while you become fitter, faster!
Group Fitness classes Free to Members!
No Registration required!
Non-Member Guests welcome with Daily Admission purchase.
&nbsp;
&nbsp;
END:VEVENT
END:VCALENDAR