BEGIN:VCALENDAR
VERSION:2.0
PRODID:-//Daxko LLC//Non-Profit Mobile//EN
CALSCALE:GREGORIAN
METHOD:PUBLISH
BEGIN:VEVENT
SUMMARY:Kids Boxing $
UID:12332-1985363-single
SEQUENCE:0
STATUS:CONFIRMED
TRANSP:OPAQUE
DTSTART;TZID=America/New_York:20260423T170000
DTEND;TZID=America/New_York:20260423T174500
DTSTAMP:20260423T082323Z
CATEGORIES:Kids Fitness
LOCATION:Studio 3
DESCRIPTION:Basic boxing skills and techniques such as stance, guard, movement and footwork. Focus on increased strength and endurance with fitness and self-confidence.&nbsp;
END:VEVENT
END:VCALENDAR