BEGIN:VCALENDAR
VERSION:2.0
PRODID:-//Daxko LLC//Non-Profit Mobile//EN
CALSCALE:GREGORIAN
METHOD:PUBLISH
BEGIN:VEVENT
SUMMARY:Kickboxing Club $
UID:12335-1985405-single
SEQUENCE:0
STATUS:CONFIRMED
TRANSP:OPAQUE
DTSTART;TZID=America/New_York:20260423T180000
DTEND;TZID=America/New_York:20260423T190000
DTSTAMP:20260423T082324Z
CATEGORIES:Cardio & Strength
LOCATION:Studio 3
DESCRIPTION:Boxing for weight loss, management, and stress relief. Stimulate every muscle group as you punch and kick your way through a customized work-out, Train for cardiovascular endurance, coordination, balance, speed and agility.
END:VEVENT
END:VCALENDAR