BEGIN:VCALENDAR
VERSION:2.0
PRODID:-//Daxko LLC//Non-Profit Mobile//EN
CALSCALE:GREGORIAN
METHOD:PUBLISH
BEGIN:VEVENT
SUMMARY:Ballroom Beginners $
UID:12365-1987128-single
SEQUENCE:0
STATUS:CONFIRMED
TRANSP:OPAQUE
DTSTART;TZID=America/New_York:20260423T180000
DTEND;TZID=America/New_York:20260423T190000
DTSTAMP:20260423T082242Z
CATEGORIES:Dance Fitness
LOCATION:Zone 2
DESCRIPTION:This class is designed to just get your wet feet with dancing and help you survive on the dance floor. Learn two different social dances that you'll find anywhere from Latin nights to wedding receptions to cruises in each class. You'll learn the basic steps of each dance and learn how confidently dance it to music.
END:VEVENT
END:VCALENDAR