BEGIN:VCALENDAR
VERSION:2.0
PRODID:-//Daxko LLC//Non-Profit Mobile//EN
CALSCALE:GREGORIAN
METHOD:PUBLISH
BEGIN:VEVENT
SUMMARY:Ballroom Advanced $
UID:12366-1987136-single
SEQUENCE:0
STATUS:CONFIRMED
TRANSP:OPAQUE
DTSTART;TZID=America/New_York:20260423T190000
DTEND;TZID=America/New_York:20260423T200000
DTSTAMP:20260423T082428Z
CATEGORIES:Dance Fitness
LOCATION:Zone 2
DESCRIPTION:Each class will focus on one social dance and teach you more than one basic step in that dance. This class will help you learn the characteristics of the dance and how to navigate a crowded dance floor.&nbsp;
END:VEVENT
END:VCALENDAR