BEGIN:VCALENDAR
VERSION:2.0
PRODID:-//Daxko LLC//Non-Profit Mobile//EN
CALSCALE:GREGORIAN
METHOD:PUBLISH
BEGIN:VEVENT
SUMMARY:Watch Me Move!
UID:12425-1991238-single
SEQUENCE:0
STATUS:CONFIRMED
TRANSP:OPAQUE
DTSTART;TZID=America/New_York:20260423T094500
DTEND;TZID=America/New_York:20260423T104500
DTSTAMP:20260423T082427Z
CATEGORIES:Low Impact
LOCATION:Zone 2
DESCRIPTION:This program offers&nbsp; a unique outdoor exercise class designed for moms and their children, promoting fitness and fun away from screens. Participants can engage in invigorating workouts while kids enjoy entertaining songs, stories, and games, fostering a supportive community. Join us to recharge, your model healthy habits, and create lasting memories with your little ones.
END:VEVENT
END:VCALENDAR