BEGIN:VCALENDAR
VERSION:2.0
PRODID:-//Daxko LLC//Non-Profit Mobile//EN
CALSCALE:GREGORIAN
METHOD:PUBLISH
BEGIN:VEVENT
SUMMARY:Open Pickleball
UID:12758-2004165-single
SEQUENCE:0
STATUS:CONFIRMED
TRANSP:OPAQUE
DTSTART;TZID=America/New_York:20260423T053000
DTEND;TZID=America/New_York:20260423T143000
DTSTAMP:20260423T082202Z
CATEGORIES:Programs Adult
LOCATION:Gymnasium 6
DESCRIPTION:Pickleball combines the skills and rules of badminton, tennis and ping-pong. Open pickleball time is for all experience levels. Bring your own paddles and balls.&nbsp;
Follow us on the TeamReach App for schedule changes/updates.&nbsp;
Group Name: Lititz Rec Pickleball
Group Code: LRCPicklers1
Open Pickleball is Free to Members!
No Registration required.
Non-Member Guests welcome with Daily Admission purchase.
END:VEVENT
END:VCALENDAR