BEGIN:VCALENDAR
VERSION:2.0
PRODID:-//Daxko LLC//Non-Profit Mobile//EN
CALSCALE:GREGORIAN
METHOD:PUBLISH
BEGIN:VEVENT
SUMMARY:3-4 Half Pint T-Ball $
UID:13035-2006403-single
SEQUENCE:0
STATUS:CONFIRMED
TRANSP:OPAQUE
DTSTART;TZID=America/New_York:20260423T170000
DTEND;TZID=America/New_York:20260423T173000
DTSTAMP:20260423T082201Z
CATEGORIES:Programs Preschool
LOCATION:Gymnasium 6
DESCRIPTION:Register Here. &nbsp; &nbsp; Half Pints T-Ball is designed for kids ages 3&amp;4. This program offers your child an introduction to t-ball. Children will be taught fundamentals of the game. T-Ball clinics are taught by patient instructors and focus on skills, listening and fun!&nbsp;
Preregistration is required. 
Please see mobile app, website, or program guide for pricing.&nbsp;
END:VEVENT
END:VCALENDAR