BEGIN:VCALENDAR
VERSION:2.0
PRODID:-//Daxko LLC//Non-Profit Mobile//EN
CALSCALE:GREGORIAN
METHOD:PUBLISH
BEGIN:VEVENT
SUMMARY:Youth Pickleball $
UID:13040-2006435-single
SEQUENCE:0
STATUS:CONFIRMED
TRANSP:OPAQUE
DTSTART;TZID=America/New_York:20260423T173000
DTEND;TZID=America/New_York:20260423T181500
DTSTAMP:20260423T082325Z
CATEGORIES:Programs Youth
LOCATION:Gymnasium 7
DESCRIPTION:Register Here. &nbsp; &nbsp;Youth Pickleball- Learn to play pickleball in a structured class of drills and games that are desgined to help kids reach full court play. Bring your own paddle, if not, borrow one of ours. Ages 7-12
Pre-registration is required.
Please see our Mobile App, Website or Program Guide for pricing.
END:VEVENT
END:VCALENDAR