BEGIN:VCALENDAR
VERSION:2.0
PRODID:-//Daxko LLC//Non-Profit Mobile//EN
CALSCALE:GREGORIAN
METHOD:PUBLISH
BEGIN:VEVENT
SUMMARY:Juniors Kickboxing $
UID:13046-2006455-single
SEQUENCE:0
STATUS:CONFIRMED
TRANSP:OPAQUE
DTSTART;TZID=America/New_York:20260423T160000
DTEND;TZID=America/New_York:20260423T164500
DTSTAMP:20260423T082242Z
CATEGORIES:Kids Fitness
LOCATION:Studio 3
DESCRIPTION:Age:&nbsp;12-18
This class is a great way to introduce children to the sport of boxing/ kickboxing while boosting their fitness and self-confidence. Each class teaches participants the basic skills, like stance, guard &amp; foot work while promoting strength, endurance and self-discipline.&nbsp;
END:VEVENT
END:VCALENDAR